BEGIN:VCALENDAR
VERSION:2.0
PRODID:-//DuTrac Community Credit Union - ECPv6.15.20//NONSGML v1.0//EN
CALSCALE:GREGORIAN
METHOD:PUBLISH
X-WR-CALNAME:DuTrac Community Credit Union
X-ORIGINAL-URL:https://test.dutrac.org
X-WR-CALDESC:Events for DuTrac Community Credit Union
REFRESH-INTERVAL;VALUE=DURATION:PT1H
X-Robots-Tag:noindex
X-PUBLISHED-TTL:PT1H
BEGIN:VTIMEZONE
TZID:America/Chicago
BEGIN:DAYLIGHT
TZOFFSETFROM:-0600
TZOFFSETTO:-0500
TZNAME:CDT
DTSTART:20230312T080000
END:DAYLIGHT
BEGIN:STANDARD
TZOFFSETFROM:-0500
TZOFFSETTO:-0600
TZNAME:CST
DTSTART:20231105T070000
END:STANDARD
BEGIN:DAYLIGHT
TZOFFSETFROM:-0600
TZOFFSETTO:-0500
TZNAME:CDT
DTSTART:20240310T080000
END:DAYLIGHT
BEGIN:STANDARD
TZOFFSETFROM:-0500
TZOFFSETTO:-0600
TZNAME:CST
DTSTART:20241103T070000
END:STANDARD
BEGIN:DAYLIGHT
TZOFFSETFROM:-0600
TZOFFSETTO:-0500
TZNAME:CDT
DTSTART:20250309T080000
END:DAYLIGHT
BEGIN:STANDARD
TZOFFSETFROM:-0500
TZOFFSETTO:-0600
TZNAME:CST
DTSTART:20251102T070000
END:STANDARD
END:VTIMEZONE
BEGIN:VEVENT
DTSTART;VALUE=DATE:20240501
DTEND;VALUE=DATE:20240601
DTSTAMP:20260421T155159
CREATED:20240411T150029Z
LAST-MODIFIED:20240411T150029Z
UID:20269-1714521600-1717199999@test.dutrac.org
SUMMARY:DuTrac Diaper Drive
DESCRIPTION:In partnership with United Way of Dubuque Area Tri-States & Hiney Heroes of the Quad Cities.\nDrop off diapers at any DuTrac Branch\, including the Mobile\, the entire month of May.
URL:https://test.dutrac.org/event/dutrac-diaper-drive/
CATEGORIES:Mobile Branch
END:VEVENT
BEGIN:VEVENT
DTSTART;TZID=America/Chicago:20240503T080000
DTEND;TZID=America/Chicago:20240503T160000
DTSTAMP:20260421T155159
CREATED:20240411T150139Z
LAST-MODIFIED:20240411T174939Z
UID:20271-1714723200-1714752000@test.dutrac.org
SUMMARY:Employer Partnership Program at Express Employment Professionals
DESCRIPTION:
URL:https://test.dutrac.org/event/employer-partnership-program-at-express-employment-professionals/
LOCATION:Express Employment Professionals\, 1701 John F. Kennedy Road\, Dubuque\, IA\, United States
CATEGORIES:Mobile Branch
END:VEVENT
BEGIN:VEVENT
DTSTART;TZID=America/Chicago:20240505T070000
DTEND;TZID=America/Chicago:20240505T160000
DTSTAMP:20260421T155159
CREATED:20240503T143004Z
LAST-MODIFIED:20240503T143004Z
UID:20363-1714892400-1714924800@test.dutrac.org
SUMMARY:Dubuque Farmer’s Market
DESCRIPTION:
URL:https://test.dutrac.org/event/dubuque-farmers-market/
LOCATION:Corner of 10th & Iowa Streets\, Dubuque\, 1000 Iowa Street\, Dubuque\, IA\, United States
CATEGORIES:Mobile Branch
END:VEVENT
BEGIN:VEVENT
DTSTART;TZID=America/Chicago:20240509T110000
DTEND;TZID=America/Chicago:20240509T140000
DTSTAMP:20260421T155159
CREATED:20240411T150248Z
LAST-MODIFIED:20240411T150248Z
UID:20274-1715252400-1715263200@test.dutrac.org
SUMMARY:Teach & Tour at Louisa-Muscatine High School
DESCRIPTION:
URL:https://test.dutrac.org/event/teach-tour-at-louisa-muscatine-high-school/
LOCATION:Louisa-Muscatine High School\, 14354 170th St.\, Letts\, IA\, United States
CATEGORIES:Mobile Branch
END:VEVENT
BEGIN:VEVENT
DTSTART;TZID=America/Chicago:20240515T160000
DTEND;TZID=America/Chicago:20240515T173000
DTSTAMP:20260421T155159
CREATED:20240503T143127Z
LAST-MODIFIED:20240503T143657Z
UID:20366-1715788800-1715794200@test.dutrac.org
SUMMARY:DuTrac Mobile Branch Ribbon Cutting\, Hy-Vee
DESCRIPTION:
URL:https://test.dutrac.org/event/dutrac-mobile-branch-ribbon-cutting/
LOCATION:Hy-Vee\, Kimberly Road\, Davenport\, 1823 Kimberly Road\, Davenport\, IA\, United States
CATEGORIES:Mobile Branch
END:VEVENT
BEGIN:VEVENT
DTSTART;TZID=America/Chicago:20240522T120000
DTEND;TZID=America/Chicago:20240522T130000
DTSTAMP:20260421T155159
CREATED:20240528T142301Z
LAST-MODIFIED:20240528T142301Z
UID:20444-1716379200-1716382800@test.dutrac.org
SUMMARY:Maquoketa Chamber of Commerce Lunch & Learn Presentation
DESCRIPTION:
URL:https://test.dutrac.org/event/maquoketa-chamber-of-commerce-lunch-learn-presentation/
LOCATION:Maquoketa Chamber of Commerce\, 124 S. Main Street Suite 2\, Maquoketa\, IA\, 52060\, United States
CATEGORIES:Mobile Branch
END:VEVENT
BEGIN:VEVENT
DTSTART;TZID=America/Chicago:20240523T150000
DTEND;TZID=America/Chicago:20240523T170000
DTSTAMP:20260421T155159
CREATED:20240503T143632Z
LAST-MODIFIED:20240503T143632Z
UID:20375-1716476400-1716483600@test.dutrac.org
SUMMARY:DuTrac Mobile Branch Ribbon Cutting\, Dyersville Farmer’s Market Opening Day
DESCRIPTION:
URL:https://test.dutrac.org/event/dutrac-mobile-branch-ribbon-cutting-dyersville-farmers-market-opening-day/
LOCATION:Commercial Club Park\, 225 11th St SE\, Dyersville\, IA\, United States
CATEGORIES:Mobile Branch
END:VEVENT
BEGIN:VEVENT
DTSTART;TZID=America/Chicago:20240529T110000
DTEND;TZID=America/Chicago:20240529T170000
DTSTAMP:20260421T155159
CREATED:20240503T143852Z
LAST-MODIFIED:20240503T143852Z
UID:20380-1716980400-1717002000@test.dutrac.org
SUMMARY:DuTrac Community Credit Union
DESCRIPTION:
URL:https://test.dutrac.org/event/dutrac-community-credit-union/
LOCATION:DuTrac Community Credit Union\, Moline\, 3153 Avenue Of The Cities\, Moline\, IA\, United States
CATEGORIES:Mobile Branch
END:VEVENT
END:VCALENDAR