BEGIN:VCALENDAR
VERSION:2.0
PRODID:-//DuTrac Community Credit Union - ECPv6.15.20//NONSGML v1.0//EN
CALSCALE:GREGORIAN
METHOD:PUBLISH
X-WR-CALNAME:DuTrac Community Credit Union
X-ORIGINAL-URL:https://test.dutrac.org
X-WR-CALDESC:Events for DuTrac Community Credit Union
REFRESH-INTERVAL;VALUE=DURATION:PT1H
X-Robots-Tag:noindex
X-PUBLISHED-TTL:PT1H
BEGIN:VTIMEZONE
TZID:America/Chicago
BEGIN:DAYLIGHT
TZOFFSETFROM:-0600
TZOFFSETTO:-0500
TZNAME:CDT
DTSTART:20230312T080000
END:DAYLIGHT
BEGIN:STANDARD
TZOFFSETFROM:-0500
TZOFFSETTO:-0600
TZNAME:CST
DTSTART:20231105T070000
END:STANDARD
BEGIN:DAYLIGHT
TZOFFSETFROM:-0600
TZOFFSETTO:-0500
TZNAME:CDT
DTSTART:20240310T080000
END:DAYLIGHT
BEGIN:STANDARD
TZOFFSETFROM:-0500
TZOFFSETTO:-0600
TZNAME:CST
DTSTART:20241103T070000
END:STANDARD
BEGIN:DAYLIGHT
TZOFFSETFROM:-0600
TZOFFSETTO:-0500
TZNAME:CDT
DTSTART:20250309T080000
END:DAYLIGHT
BEGIN:STANDARD
TZOFFSETFROM:-0500
TZOFFSETTO:-0600
TZNAME:CST
DTSTART:20251102T070000
END:STANDARD
END:VTIMEZONE
BEGIN:VEVENT
DTSTART;TZID=America/Chicago:20240707T170000
DTEND;TZID=America/Chicago:20240707T203000
DTSTAMP:20260421T130600
CREATED:20240528T141558Z
LAST-MODIFIED:20240528T141558Z
UID:20436-1720371600-1720384200@test.dutrac.org
SUMMARY:Music in the Gardens Sponsor – Secrets
DESCRIPTION:
URL:https://test.dutrac.org/event/music-in-the-gardens-sponsor-secrets/
LOCATION:Dubuque Arboretum\, 3800 Arboretum Drive\, Dubuque\, IA\, United States
CATEGORIES:Mobile Branch
END:VEVENT
BEGIN:VEVENT
DTSTART;TZID=America/Chicago:20240712T100000
DTEND;TZID=America/Chicago:20240712T113000
DTSTAMP:20260421T130600
CREATED:20240503T144320Z
LAST-MODIFIED:20240503T144320Z
UID:20391-1720778400-1720783800@test.dutrac.org
SUMMARY:Carnegie-Stout Public Library Programs in the Park
DESCRIPTION:
URL:https://test.dutrac.org/event/carnegie-stout-public-library-programs-in-the-park-3/
LOCATION:Dubuque Arboretum\, 3800 Arboretum Drive\, Dubuque\, IA\, United States
CATEGORIES:Mobile Branch
END:VEVENT
BEGIN:VEVENT
DTSTART;TZID=America/Chicago:20240712T170000
DTEND;TZID=America/Chicago:20240712T210000
DTSTAMP:20260421T130600
CREATED:20240503T144428Z
LAST-MODIFIED:20240503T144428Z
UID:20393-1720803600-1720818000@test.dutrac.org
SUMMARY:Music on Main
DESCRIPTION:
URL:https://test.dutrac.org/event/music-on-main/
LOCATION:680 Main St\, 680 Main St\, Dubuque\, IA\, United States
CATEGORIES:Mobile Branch
END:VEVENT
BEGIN:VEVENT
DTSTART;TZID=America/Chicago:20240713T100000
DTEND;TZID=America/Chicago:20240713T220000
DTSTAMP:20260421T130600
CREATED:20240528T163640Z
LAST-MODIFIED:20240528T163640Z
UID:20448-1720864800-1720908000@test.dutrac.org
SUMMARY:Eldridge Summer Parade & Festival
DESCRIPTION:
URL:https://test.dutrac.org/event/eldridge-summer-parade-festival/
LOCATION:Eldridge\, IA\, Eldridge\, IA\, United States
CATEGORIES:Mobile Branch
END:VEVENT
BEGIN:VEVENT
DTSTART;TZID=America/Chicago:20240722T170000
DTEND;TZID=America/Chicago:20240722T193000
DTSTAMP:20260421T130600
CREATED:20240528T141821Z
LAST-MODIFIED:20240528T141821Z
UID:20438-1721667600-1721676600@test.dutrac.org
SUMMARY:Scott County Library System Summer Finale Party
DESCRIPTION:
URL:https://test.dutrac.org/event/scott-county-library-system-summer-finale-party/
LOCATION:Eldridge Branch Library\, 200 N. 6th Avenue\, Eldridge\, IA\, 52748\, United States
CATEGORIES:Mobile Branch
END:VEVENT
BEGIN:VEVENT
DTSTART;TZID=America/Chicago:20240725T100000
DTEND;TZID=America/Chicago:20240725T180000
DTSTAMP:20260421T130600
CREATED:20240722T203855Z
LAST-MODIFIED:20240723T165753Z
UID:20605-1721901600-1721930400@test.dutrac.org
SUMMARY:DuTrac's Decorah Branch
DESCRIPTION:
URL:https://test.dutrac.org/event/mobile-branch-at-decorah-location/
LOCATION:DuTrac’s Decorah Branch\, 915 Short Street\, Decorah\, IA\, 52101\, United States
CATEGORIES:Mobile Branch
END:VEVENT
BEGIN:VEVENT
DTSTART;TZID=America/Chicago:20240726T083000
DTEND;TZID=America/Chicago:20240726T160000
DTSTAMP:20260421T130600
CREATED:20240722T204159Z
LAST-MODIFIED:20240723T165821Z
UID:20608-1721982600-1722009600@test.dutrac.org
SUMMARY:DuTrac's Decorah Branch
DESCRIPTION:
URL:https://test.dutrac.org/event/mobile-branch-at-decorah-location-2/
LOCATION:DuTrac’s Decorah Branch\, 915 Short Street\, Decorah\, IA\, 52101\, United States
CATEGORIES:Mobile Branch
END:VEVENT
BEGIN:VEVENT
DTSTART;TZID=America/Chicago:20240727T103000
DTEND;TZID=America/Chicago:20240727T123000
DTSTAMP:20260421T130600
CREATED:20240722T204521Z
LAST-MODIFIED:20240722T204521Z
UID:20610-1722076200-1722083400@test.dutrac.org
SUMMARY:Nordic Fest Parade
DESCRIPTION:
URL:https://test.dutrac.org/event/nordic-fest-parade/
LOCATION:Water Street\, Decorah\, IA\, 52101\, United States
CATEGORIES:Mobile Branch
END:VEVENT
END:VCALENDAR