BEGIN:VCALENDAR
VERSION:2.0
PRODID:-//DuTrac Community Credit Union - ECPv6.15.20//NONSGML v1.0//EN
CALSCALE:GREGORIAN
METHOD:PUBLISH
X-WR-CALNAME:DuTrac Community Credit Union
X-ORIGINAL-URL:https://test.dutrac.org
X-WR-CALDESC:Events for DuTrac Community Credit Union
REFRESH-INTERVAL;VALUE=DURATION:PT1H
X-Robots-Tag:noindex
X-PUBLISHED-TTL:PT1H
BEGIN:VTIMEZONE
TZID:America/Chicago
BEGIN:DAYLIGHT
TZOFFSETFROM:-0600
TZOFFSETTO:-0500
TZNAME:CDT
DTSTART:20230312T080000
END:DAYLIGHT
BEGIN:STANDARD
TZOFFSETFROM:-0500
TZOFFSETTO:-0600
TZNAME:CST
DTSTART:20231105T070000
END:STANDARD
BEGIN:DAYLIGHT
TZOFFSETFROM:-0600
TZOFFSETTO:-0500
TZNAME:CDT
DTSTART:20240310T080000
END:DAYLIGHT
BEGIN:STANDARD
TZOFFSETFROM:-0500
TZOFFSETTO:-0600
TZNAME:CST
DTSTART:20241103T070000
END:STANDARD
BEGIN:DAYLIGHT
TZOFFSETFROM:-0600
TZOFFSETTO:-0500
TZNAME:CDT
DTSTART:20250309T080000
END:DAYLIGHT
BEGIN:STANDARD
TZOFFSETFROM:-0500
TZOFFSETTO:-0600
TZNAME:CST
DTSTART:20251102T070000
END:STANDARD
END:VTIMEZONE
BEGIN:VEVENT
DTSTART;TZID=America/Chicago:20240801T100000
DTEND;TZID=America/Chicago:20240801T180000
DTSTAMP:20260421T114106
CREATED:20240723T165414Z
LAST-MODIFIED:20240723T165414Z
UID:20616-1722506400-1722535200@test.dutrac.org
SUMMARY:DuTrac's Decorah Branch
DESCRIPTION:
URL:https://test.dutrac.org/event/dutracs-decorah-branch/
LOCATION:DuTrac’s Decorah Branch\, 915 Short Street\, Decorah\, IA\, 52101\, United States
CATEGORIES:Mobile Branch
END:VEVENT
BEGIN:VEVENT
DTSTART;TZID=America/Chicago:20240802T083000
DTEND;TZID=America/Chicago:20240802T160000
DTSTAMP:20260421T114106
CREATED:20240723T165521Z
LAST-MODIFIED:20240723T165521Z
UID:20618-1722587400-1722614400@test.dutrac.org
SUMMARY:DuTrac's Decorah Branch
DESCRIPTION:
URL:https://test.dutrac.org/event/dutracs-decorah-branch-2/
LOCATION:DuTrac’s Decorah Branch\, 915 Short Street\, Decorah\, IA\, 52101\, United States
CATEGORIES:Mobile Branch
END:VEVENT
BEGIN:VEVENT
DTSTART;TZID=America/Chicago:20240808T100000
DTEND;TZID=America/Chicago:20240808T180000
DTSTAMP:20260421T114106
CREATED:20240723T165607Z
LAST-MODIFIED:20240723T165607Z
UID:20620-1723111200-1723140000@test.dutrac.org
SUMMARY:DuTrac's Decorah Branch
DESCRIPTION:
URL:https://test.dutrac.org/event/dutracs-decorah-branch-3/
LOCATION:DuTrac’s Decorah Branch\, 915 Short Street\, Decorah\, IA\, 52101\, United States
CATEGORIES:Mobile Branch
END:VEVENT
BEGIN:VEVENT
DTSTART;TZID=America/Chicago:20240809T083000
DTEND;TZID=America/Chicago:20240809T160000
DTSTAMP:20260421T114106
CREATED:20240723T165642Z
LAST-MODIFIED:20240723T165642Z
UID:20622-1723192200-1723219200@test.dutrac.org
SUMMARY:DuTrac's Decorah Branch
DESCRIPTION:
URL:https://test.dutrac.org/event/dutracs-decorah-branch-4/
LOCATION:DuTrac’s Decorah Branch\, 915 Short Street\, Decorah\, IA\, 52101\, United States
CATEGORIES:Mobile Branch
END:VEVENT
BEGIN:VEVENT
DTSTART;TZID=America/Chicago:20240815T100000
DTEND;TZID=America/Chicago:20240815T180000
DTSTAMP:20260421T114106
CREATED:20240723T165912Z
LAST-MODIFIED:20240723T165912Z
UID:20627-1723716000-1723744800@test.dutrac.org
SUMMARY:DuTrac's Decorah Branch
DESCRIPTION:
URL:https://test.dutrac.org/event/dutracs-decorah-branch-5/
LOCATION:DuTrac’s Decorah Branch\, 915 Short Street\, Decorah\, IA\, 52101\, United States
CATEGORIES:Mobile Branch
END:VEVENT
BEGIN:VEVENT
DTSTART;TZID=America/Chicago:20240816T083000
DTEND;TZID=America/Chicago:20240816T160000
DTSTAMP:20260421T114106
CREATED:20240723T165948Z
LAST-MODIFIED:20240723T165948Z
UID:20629-1723797000-1723824000@test.dutrac.org
SUMMARY:DuTrac's Decorah Branch
DESCRIPTION:
URL:https://test.dutrac.org/event/dutracs-decorah-branch-6/
LOCATION:DuTrac’s Decorah Branch\, 915 Short Street\, Decorah\, IA\, 52101\, United States
CATEGORIES:Mobile Branch
END:VEVENT
BEGIN:VEVENT
DTSTART;TZID=America/Chicago:20240822T100000
DTEND;TZID=America/Chicago:20240822T180000
DTSTAMP:20260421T114106
CREATED:20240723T170020Z
LAST-MODIFIED:20240723T170020Z
UID:20631-1724320800-1724349600@test.dutrac.org
SUMMARY:DuTrac's Decorah Branch
DESCRIPTION:
URL:https://test.dutrac.org/event/dutracs-decorah-branch-7/
LOCATION:DuTrac’s Decorah Branch\, 915 Short Street\, Decorah\, IA\, 52101\, United States
CATEGORIES:Mobile Branch
END:VEVENT
BEGIN:VEVENT
DTSTART;TZID=America/Chicago:20240823T083000
DTEND;TZID=America/Chicago:20240823T160000
DTSTAMP:20260421T114106
CREATED:20240723T170052Z
LAST-MODIFIED:20240723T170052Z
UID:20633-1724401800-1724428800@test.dutrac.org
SUMMARY:DuTrac's Decorah Branch
DESCRIPTION:
URL:https://test.dutrac.org/event/dutracs-decorah-branch-8/
LOCATION:DuTrac’s Decorah Branch\, 915 Short Street\, Decorah\, IA\, 52101\, United States
CATEGORIES:Mobile Branch
END:VEVENT
BEGIN:VEVENT
DTSTART;TZID=America/Chicago:20240829T100000
DTEND;TZID=America/Chicago:20240829T180000
DTSTAMP:20260421T114106
CREATED:20240723T170131Z
LAST-MODIFIED:20240723T170131Z
UID:20635-1724925600-1724954400@test.dutrac.org
SUMMARY:DuTrac's Decorah Branch
DESCRIPTION:
URL:https://test.dutrac.org/event/dutracs-decorah-branch-9/
LOCATION:DuTrac’s Decorah Branch\, 915 Short Street\, Decorah\, IA\, 52101\, United States
CATEGORIES:Mobile Branch
END:VEVENT
BEGIN:VEVENT
DTSTART;TZID=America/Chicago:20240830T083000
DTEND;TZID=America/Chicago:20240830T160000
DTSTAMP:20260421T114106
CREATED:20240723T170206Z
LAST-MODIFIED:20240723T170206Z
UID:20637-1725006600-1725033600@test.dutrac.org
SUMMARY:DuTrac's Decorah Branch
DESCRIPTION:
URL:https://test.dutrac.org/event/dutracs-decorah-branch-10/
LOCATION:DuTrac’s Decorah Branch\, 915 Short Street\, Decorah\, IA\, 52101\, United States
CATEGORIES:Mobile Branch
END:VEVENT
END:VCALENDAR